BEGIN:VCALENDAR
VERSION:2.0
PRODID:-//SKR - ECPv6.15.20//NONSGML v1.0//EN
CALSCALE:GREGORIAN
METHOD:PUBLISH
X-ORIGINAL-URL:https://www.skreanimation.fr
X-WR-CALDESC:Évènements pour SKR
REFRESH-INTERVAL;VALUE=DURATION:PT1H
X-Robots-Tag:noindex
X-PUBLISHED-TTL:PT1H
BEGIN:VTIMEZONE
TZID:Europe/Paris
BEGIN:DAYLIGHT
TZOFFSETFROM:+0100
TZOFFSETTO:+0200
TZNAME:CEST
DTSTART:20150329T010000
END:DAYLIGHT
BEGIN:STANDARD
TZOFFSETFROM:+0200
TZOFFSETTO:+0100
TZNAME:CET
DTSTART:20151025T010000
END:STANDARD
BEGIN:DAYLIGHT
TZOFFSETFROM:+0100
TZOFFSETTO:+0200
TZNAME:CEST
DTSTART:20160327T010000
END:DAYLIGHT
BEGIN:STANDARD
TZOFFSETFROM:+0200
TZOFFSETTO:+0100
TZNAME:CET
DTSTART:20161030T010000
END:STANDARD
BEGIN:DAYLIGHT
TZOFFSETFROM:+0100
TZOFFSETTO:+0200
TZNAME:CEST
DTSTART:20170326T010000
END:DAYLIGHT
BEGIN:STANDARD
TZOFFSETFROM:+0200
TZOFFSETTO:+0100
TZNAME:CET
DTSTART:20171029T010000
END:STANDARD
END:VTIMEZONE
BEGIN:VEVENT
DTSTART;VALUE=DATE:20160311
DTEND;VALUE=DATE:20160313
DTSTAMP:20260420T185551
CREATED:20151210T201102Z
LAST-MODIFIED:20210115T111915Z
UID:90-1457654400-1457827199@www.skreanimation.fr
SUMMARY:Formation en réanimation pédiatrique et en néonatalogie
DESCRIPTION:Les inscriptions sont clôturées pour cette année. Pour connaitre les dates des prochains modules et\nle début des inscriptions\, adhérez à la SKR et suivez nos newsletters !
URL:https://www.skreanimation.fr/evenements/formation-reanimation-pediatrique-neonatalogie-2/
LOCATION:Cliniques universitaires St Luc Bruxelles\, Belgique\, Avenue Hippocrate 10\, Woluwe-Saint-Lambert\, 1200\, Belgique
CATEGORIES:formations
ATTACH;FMTTYPE=image/jpeg:https://www.skreanimation.fr/wp-content/uploads/2015/12/maxresdefault.jpg
END:VEVENT
END:VCALENDAR